BEGIN:VCALENDAR
VERSION:2.0
PRODID:-//Covalent Logic//Content Management System//EN
BEGIN:VEVENT
UID:1776699159416.COVALENTLOGIC.COM
DTSTART:20260515T140000Z
DTEND:20260517T230000Z
SUMMARY:Governor's Games Baseball- Lake Charles, Sulphur
LOCATION:Ward 3 Multi Sports Complex (Power Centre), O.D. Johnson, Pattison Sports Complex, 3210 Power Centre Pkwy., Lake Charles, LA 70607
DESCRIPTION:
PRIORITY:5
END:VEVENT
END:VCALENDAR