BEGIN:VCALENDAR
VERSION:2.0
PRODID:-//Covalent Logic//Content Management System//EN
BEGIN:VEVENT
UID:1776856880136.COVALENTLOGIC.COM
DTSTART:20260531T000000Z
DTEND:20260531T030000Z
SUMMARY:Optimum Classic Championships
LOCATION:Shreveport Convention Center, 400 Caddo Street, Shreveport, LA 71101
DESCRIPTION:
PRIORITY:5
END:VEVENT
END:VCALENDAR