BEGIN:VCALENDAR
VERSION:2.0
PRODID:-//Covalent Logic//Content Management System//EN
BEGIN:VEVENT
UID:1776683393800.COVALENTLOGIC.COM
DTSTART:20260318T133000Z
DTEND:20260601T173000Z
SUMMARY:St. Landry Fitness Meet
LOCATION:Northwest HIgh School, 3746 Hwy. 104, Opelousas, LA 70570
DESCRIPTION:
PRIORITY:5
END:VEVENT
END:VCALENDAR